BEGIN:VCALENDAR
VERSION:2.0
PRODID:-//Crossing Ministry - ECPv6.15.1.1//NONSGML v1.0//EN
CALSCALE:GREGORIAN
METHOD:PUBLISH
X-ORIGINAL-URL:https://crossingministry.com
X-WR-CALDESC:Events for Crossing Ministry
REFRESH-INTERVAL;VALUE=DURATION:PT1H
X-Robots-Tag:noindex
X-PUBLISHED-TTL:PT1H
BEGIN:VTIMEZONE
TZID:UTC
BEGIN:STANDARD
TZOFFSETFROM:+0000
TZOFFSETTO:+0000
TZNAME:UTC
DTSTART:20190101T000000
END:STANDARD
END:VTIMEZONE
BEGIN:VEVENT
DTSTART;TZID=UTC:20211011T190000
DTEND;TZID=UTC:20211015T190000
DTSTAMP:20260423T155653
CREATED:20211015T091653Z
LAST-MODIFIED:20211015T091653Z
UID:638-1633978800-1634324400@crossingministry.com
SUMMARY:W.O.W- Women Of Wisdom Walking in Commitment
DESCRIPTION:
URL:https://crossingministry.com/event/w-o-w-women-of-wisdom-walking-in-commitment/
ATTACH;FMTTYPE=image/jpeg:https://crossingministry.com/wp-content/uploads/2021/10/crossing-ministry-women-1.jpeg
END:VEVENT
BEGIN:VEVENT
DTSTART;TZID=UTC:20190525T190000
DTEND;TZID=UTC:20190525T213000
DTSTAMP:20260423T155653
CREATED:20190128T054954Z
LAST-MODIFIED:20190128T054954Z
UID:597-1558810800-1558819800@crossingministry.com
SUMMARY:Expansion Conference
DESCRIPTION:Join us for our expense and church group conference 2019. There will be exciting speakers and materials to help grow your ministry
URL:https://crossingministry.com/event/expansion-conference/
LOCATION:Crossing\, 400 East Palmer Street\, Compton\, CA\, United States
END:VEVENT
END:VCALENDAR